BEGIN:VCALENDAR
VERSION:2.0
CALSCALE:GREGORIAN
PRODID:adamgibbons/ics
METHOD:PUBLISH
X-PUBLISHED-TTL:PT1H
BEGIN:VEVENT
UID:19056@offbeat.amsterdam
SUMMARY:Cinemanita & Fiber Factory
DTSTAMP:20260419T223219Z
DTSTART:20260420T183000Z
URL:https://offbeat.amsterdam/event/cinemanita-and-fiber-factory-15
GEO:52.374158;4.8726931
LOCATION:De Nieuwe Anita - Frederik Hendrikstraat 111\, 1052 HN Amsterdam
STATUS:CONFIRMED
CATEGORIES:food,music,blues,dj,film,movie night,westerpark,vegan,amsterdam-
	west
END:VEVENT
BEGIN:VEVENT
UID:20331@offbeat.amsterdam
SUMMARY:Soil movie night
DTSTAMP:20260419T223219Z
DTSTART:20260423T160000Z
DTEND:20260423T180000Z
URL:https://offbeat.amsterdam/event/soil-movie-night
GEO:52.3765012;4.9132763
LOCATION:Mediamatic - Dijksgracht 6\, 1019 BS Amsterdam
STATUS:CONFIRMED
CATEGORIES:amsterdam-centrum,movie night,film,eastern docklands
END:VEVENT
BEGIN:VEVENT
UID:20833@offbeat.amsterdam
SUMMARY:Bar & Movie Night at Molli Chaoot!
DTSTAMP:20260419T223219Z
DTSTART:20260424T170000Z
URL:https://offbeat.amsterdam/event/bar-and-movie-night-at-molli-chaoot-1
GEO:52.3519638;4.8895188
LOCATION:Molli Chaoot - Van Ostadestraat 55hs\, 1072 SN Amsterdam
STATUS:CONFIRMED
CATEGORIES:bar/cafe,film,movie night,amsterdam-zuid,de pijp
END:VEVENT
BEGIN:VEVENT
UID:20459@offbeat.amsterdam
SUMMARY:Amsterdam BeatClub & Nitrate Movie Nights present: TURA!
DTSTAMP:20260419T223219Z
DTSTART:20260425T170000Z
DTEND:20260425T230000Z
URL:https://offbeat.amsterdam/event/amsterdam-beatclub-and-nitrate-movie-ni
	ghts-present-tura
GEO:52.374158;4.8726931
LOCATION:De Nieuwe Anita - Frederik Hendrikstraat 111\, 1052 HN Amsterdam
STATUS:CONFIRMED
CATEGORIES:live,movie night,westerpark,amsterdam-west,documentary,film
END:VEVENT
BEGIN:VEVENT
UID:20834@offbeat.amsterdam
SUMMARY:Bar & Movie Night at Molli Chaoot!
DTSTAMP:20260419T223219Z
DTSTART:20260501T170000Z
URL:https://offbeat.amsterdam/event/bar-and-movie-night-at-molli-chaoot-2
GEO:52.3519638;4.8895188
LOCATION:Molli Chaoot - Van Ostadestraat 55hs\, 1072 SN Amsterdam
STATUS:CONFIRMED
CATEGORIES:de pijp,bar/cafe,amsterdam-zuid,movie night,film
END:VEVENT
BEGIN:VEVENT
UID:20461@offbeat.amsterdam
SUMMARY:Dyke March Book Club + Movie Night: Orlando
DTSTAMP:20260419T223219Z
DTSTART:20260503T140000Z
URL:https://offbeat.amsterdam/event/dyke-march-book-club-movie-night-orland
	o
GEO:52.3622421;4.9298553
LOCATION:NieuwLand - Pieter Nieuwlandstraat 93\, 1093 XN Amsterdam
STATUS:CONFIRMED
CATEGORIES:dapperbuurt,discussion/presentation,film,gender,movie night,amst
	erdam-oost,books
END:VEVENT
BEGIN:VEVENT
UID:19057@offbeat.amsterdam
SUMMARY:Cinemanita & Fiber Factory
DTSTAMP:20260419T223219Z
DTSTART:20260504T183000Z
URL:https://offbeat.amsterdam/event/cinemanita-and-fiber-factory-16
GEO:52.374158;4.8726931
LOCATION:De Nieuwe Anita - Frederik Hendrikstraat 111\, 1052 HN Amsterdam
STATUS:CONFIRMED
CATEGORIES:music,amsterdam-west,blues,dj,film,food,movie night,vegan,wester
	park
END:VEVENT
BEGIN:VEVENT
UID:20863@offbeat.amsterdam
SUMMARY:16mm Cult Movie Night
DTSTAMP:20260419T223219Z
DTSTART:20260507T173000Z
DTEND:20260507T210000Z
URL:https://offbeat.amsterdam/event/16mm-cult-movie-night-2
GEO:52.3601403;4.8656923
LOCATION:OT301 - Overtoom 301\, 1054 HW Amsterdam
STATUS:CONFIRMED
CATEGORIES:movie night,film,amsterdam-west,vondelparkbuurt,theater,sci-fi
END:VEVENT
BEGIN:VEVENT
UID:20835@offbeat.amsterdam
SUMMARY:Bar & Movie Night at Molli Chaoot!
DTSTAMP:20260419T223219Z
DTSTART:20260508T170000Z
URL:https://offbeat.amsterdam/event/bar-and-movie-night-at-molli-chaoot-3
GEO:52.3519638;4.8895188
LOCATION:Molli Chaoot - Van Ostadestraat 55hs\, 1072 SN Amsterdam
STATUS:CONFIRMED
CATEGORIES:amsterdam-zuid,film,de pijp,bar/cafe,movie night
END:VEVENT
BEGIN:VEVENT
UID:19060@offbeat.amsterdam
SUMMARY:Cinemanita\, Fiber Factory & de Boekenclub
DTSTAMP:20260419T223219Z
DTSTART:20260511T183000Z
URL:https://offbeat.amsterdam/event/cinemanita-fiber-factory-and-de-boekenc
	lub
GEO:52.374158;4.8726931
LOCATION:De Nieuwe Anita - Frederik Hendrikstraat 111\, 1052 HN Amsterdam
STATUS:CONFIRMED
CATEGORIES:amsterdam-west,vegan,music,movie night,food,westerpark,blues,dj,
	film
END:VEVENT
BEGIN:VEVENT
UID:20836@offbeat.amsterdam
SUMMARY:Bar & Movie Night at Molli Chaoot!
DTSTAMP:20260419T223219Z
DTSTART:20260515T170000Z
URL:https://offbeat.amsterdam/event/bar-and-movie-night-at-molli-chaoot-4
GEO:52.3519638;4.8895188
LOCATION:Molli Chaoot - Van Ostadestraat 55hs\, 1072 SN Amsterdam
STATUS:CONFIRMED
CATEGORIES:de pijp,amsterdam-zuid,movie night,film,bar/cafe
END:VEVENT
BEGIN:VEVENT
UID:19058@offbeat.amsterdam
SUMMARY:Cinemanita & Fiber Factory
DTSTAMP:20260419T223219Z
DTSTART:20260518T183000Z
URL:https://offbeat.amsterdam/event/cinemanita-and-fiber-factory-17
GEO:52.374158;4.8726931
LOCATION:De Nieuwe Anita - Frederik Hendrikstraat 111\, 1052 HN Amsterdam
STATUS:CONFIRMED
CATEGORIES:food,film,dj,blues,amsterdam-west,westerpark,vegan,music,movie n
	ight
END:VEVENT
BEGIN:VEVENT
UID:20837@offbeat.amsterdam
SUMMARY:Bar & Movie Night at Molli Chaoot!
DTSTAMP:20260419T223219Z
DTSTART:20260522T170000Z
URL:https://offbeat.amsterdam/event/bar-and-movie-night-at-molli-chaoot-5
GEO:52.3519638;4.8895188
LOCATION:Molli Chaoot - Van Ostadestraat 55hs\, 1072 SN Amsterdam
STATUS:CONFIRMED
CATEGORIES:bar/cafe,amsterdam-zuid,movie night,film,de pijp
END:VEVENT
BEGIN:VEVENT
UID:19059@offbeat.amsterdam
SUMMARY:Cinemanita & Fiber Factory
DTSTAMP:20260419T223219Z
DTSTART:20260525T183000Z
URL:https://offbeat.amsterdam/event/cinemanita-and-fiber-factory-18
GEO:52.374158;4.8726931
LOCATION:De Nieuwe Anita - Frederik Hendrikstraat 111\, 1052 HN Amsterdam
STATUS:CONFIRMED
CATEGORIES:dj,westerpark,vegan,music,movie night,food,film,blues,amsterdam-
	west
END:VEVENT
BEGIN:VEVENT
UID:20838@offbeat.amsterdam
SUMMARY:Bar & Movie Night at Molli Chaoot!
DTSTAMP:20260419T223219Z
DTSTART:20260529T170000Z
URL:https://offbeat.amsterdam/event/bar-and-movie-night-at-molli-chaoot-6
GEO:52.3519638;4.8895188
LOCATION:Molli Chaoot - Van Ostadestraat 55hs\, 1072 SN Amsterdam
STATUS:CONFIRMED
CATEGORIES:amsterdam-zuid,movie night,film,de pijp,bar/cafe
END:VEVENT
BEGIN:VEVENT
UID:19904@offbeat.amsterdam
SUMMARY:Cinemanita & Fiber Factory
DTSTAMP:20260419T223219Z
DTSTART:20260601T183000Z
URL:https://offbeat.amsterdam/event/cinemanita-and-fiber-factory-19
GEO:52.374158;4.8726931
LOCATION:De Nieuwe Anita - Frederik Hendrikstraat 111\, 1052 HN Amsterdam
STATUS:CONFIRMED
CATEGORIES:blues,westerpark,vegan,music,movie night,food,film,amsterdam-wes
	t,dj
END:VEVENT
BEGIN:VEVENT
UID:20864@offbeat.amsterdam
SUMMARY:16mm Cult Movie Night
DTSTAMP:20260419T223219Z
DTSTART:20260603T173000Z
DTEND:20260603T210000Z
URL:https://offbeat.amsterdam/event/16mm-cult-movie-night-3
GEO:52.3601403;4.8656923
LOCATION:OT301 - Overtoom 301\, 1054 HW Amsterdam
STATUS:CONFIRMED
CATEGORIES:movie night,vondelparkbuurt,amsterdam-west,film,spaghetti wester
	n
END:VEVENT
BEGIN:VEVENT
UID:20839@offbeat.amsterdam
SUMMARY:Bar & Movie Night at Molli Chaoot!
DTSTAMP:20260419T223219Z
DTSTART:20260605T170000Z
URL:https://offbeat.amsterdam/event/bar-and-movie-night-at-molli-chaoot-7
GEO:52.3519638;4.8895188
LOCATION:Molli Chaoot - Van Ostadestraat 55hs\, 1072 SN Amsterdam
STATUS:CONFIRMED
CATEGORIES:film,movie night,amsterdam-zuid,bar/cafe,de pijp
END:VEVENT
BEGIN:VEVENT
UID:19911@offbeat.amsterdam
SUMMARY:Cinemanita\, Fiber Factory & de Boekenclub
DTSTAMP:20260419T223219Z
DTSTART:20260608T183000Z
URL:https://offbeat.amsterdam/event/cinemanita-fiber-factory-and-de-boekenc
	lub-1
GEO:52.374158;4.8726931
LOCATION:De Nieuwe Anita - Frederik Hendrikstraat 111\, 1052 HN Amsterdam
STATUS:CONFIRMED
CATEGORIES:movie night,food,film,dj,blues,amsterdam-west,music,vegan,wester
	park
END:VEVENT
BEGIN:VEVENT
UID:20840@offbeat.amsterdam
SUMMARY:Bar & Movie Night at Molli Chaoot!
DTSTAMP:20260419T223219Z
DTSTART:20260612T170000Z
URL:https://offbeat.amsterdam/event/bar-and-movie-night-at-molli-chaoot-8
GEO:52.3519638;4.8895188
LOCATION:Molli Chaoot - Van Ostadestraat 55hs\, 1072 SN Amsterdam
STATUS:CONFIRMED
CATEGORIES:de pijp,amsterdam-zuid,bar/cafe,film,movie night
END:VEVENT
BEGIN:VEVENT
UID:19905@offbeat.amsterdam
SUMMARY:Cinemanita & Fiber Factory
DTSTAMP:20260419T223219Z
DTSTART:20260615T183000Z
URL:https://offbeat.amsterdam/event/cinemanita-and-fiber-factory-20
GEO:52.374158;4.8726931
LOCATION:De Nieuwe Anita - Frederik Hendrikstraat 111\, 1052 HN Amsterdam
STATUS:CONFIRMED
CATEGORIES:westerpark,amsterdam-west,blues,dj,film,food,movie night,music,v
	egan
END:VEVENT
BEGIN:VEVENT
UID:20841@offbeat.amsterdam
SUMMARY:Bar & Movie Night at Molli Chaoot!
DTSTAMP:20260419T223219Z
DTSTART:20260619T170000Z
URL:https://offbeat.amsterdam/event/bar-and-movie-night-at-molli-chaoot-9
GEO:52.3519638;4.8895188
LOCATION:Molli Chaoot - Van Ostadestraat 55hs\, 1072 SN Amsterdam
STATUS:CONFIRMED
CATEGORIES:film,bar/cafe,amsterdam-zuid,movie night,de pijp
END:VEVENT
BEGIN:VEVENT
UID:19906@offbeat.amsterdam
SUMMARY:Cinemanita & Fiber Factory
DTSTAMP:20260419T223219Z
DTSTART:20260622T183000Z
URL:https://offbeat.amsterdam/event/cinemanita-and-fiber-factory-21
GEO:52.374158;4.8726931
LOCATION:De Nieuwe Anita - Frederik Hendrikstraat 111\, 1052 HN Amsterdam
STATUS:CONFIRMED
CATEGORIES:vegan,amsterdam-west,blues,dj,film,food,movie night,music,wester
	park
END:VEVENT
BEGIN:VEVENT
UID:19907@offbeat.amsterdam
SUMMARY:Cinemanita & Fiber Factory
DTSTAMP:20260419T223219Z
DTSTART:20260629T183000Z
URL:https://offbeat.amsterdam/event/cinemanita-and-fiber-factory-22
GEO:52.374158;4.8726931
LOCATION:De Nieuwe Anita - Frederik Hendrikstraat 111\, 1052 HN Amsterdam
STATUS:CONFIRMED
CATEGORIES:film,westerpark,vegan,music,movie night,food,dj,blues,amsterdam-
	west
END:VEVENT
BEGIN:VEVENT
UID:20865@offbeat.amsterdam
SUMMARY:16mm Cult Movie Night
DTSTAMP:20260419T223219Z
DTSTART:20260702T173000Z
DTEND:20260702T210000Z
URL:https://offbeat.amsterdam/event/16mm-cult-movie-night-4
GEO:52.3601403;4.8656923
LOCATION:OT301 - Overtoom 301\, 1054 HW Amsterdam
STATUS:CONFIRMED
CATEGORIES:movie night,theater,vondelparkbuurt,jungle,amsterdam-west,film,t
	alk
END:VEVENT
BEGIN:VEVENT
UID:19908@offbeat.amsterdam
SUMMARY:Cinemanita & Fiber Factory
DTSTAMP:20260419T223219Z
DTSTART:20260706T183000Z
URL:https://offbeat.amsterdam/event/cinemanita-and-fiber-factory-23
GEO:52.374158;4.8726931
LOCATION:De Nieuwe Anita - Frederik Hendrikstraat 111\, 1052 HN Amsterdam
STATUS:CONFIRMED
CATEGORIES:film,food,westerpark,movie night,amsterdam-west,blues,music,vega
	n,dj
END:VEVENT
BEGIN:VEVENT
UID:19912@offbeat.amsterdam
SUMMARY:Cinemanita\, Fiber Factory & de Boekenclub
DTSTAMP:20260419T223219Z
DTSTART:20260713T183000Z
URL:https://offbeat.amsterdam/event/cinemanita-fiber-factory-and-de-boekenc
	lub-2
GEO:52.374158;4.8726931
LOCATION:De Nieuwe Anita - Frederik Hendrikstraat 111\, 1052 HN Amsterdam
STATUS:CONFIRMED
CATEGORIES:film,westerpark,food,vegan,music,movie night,amsterdam-west,blue
	s,dj
END:VEVENT
BEGIN:VEVENT
UID:19909@offbeat.amsterdam
SUMMARY:Cinemanita & Fiber Factory
DTSTAMP:20260419T223219Z
DTSTART:20260720T183000Z
URL:https://offbeat.amsterdam/event/cinemanita-and-fiber-factory-24
GEO:52.374158;4.8726931
LOCATION:De Nieuwe Anita - Frederik Hendrikstraat 111\, 1052 HN Amsterdam
STATUS:CONFIRMED
CATEGORIES:amsterdam-west,vegan,music,movie night,food,film,westerpark,dj,b
	lues
END:VEVENT
BEGIN:VEVENT
UID:19910@offbeat.amsterdam
SUMMARY:Cinemanita & Fiber Factory
DTSTAMP:20260419T223219Z
DTSTART:20260727T183000Z
URL:https://offbeat.amsterdam/event/cinemanita-and-fiber-factory-25
GEO:52.374158;4.8726931
LOCATION:De Nieuwe Anita - Frederik Hendrikstraat 111\, 1052 HN Amsterdam
STATUS:CONFIRMED
CATEGORIES:blues,film,food,movie night,music,vegan,westerpark,amsterdam-wes
	t,dj
END:VEVENT
END:VCALENDAR
